BEGIN:VCALENDAR
VERSION:2.0
PRODID:-//majesticmarchingeagles.org - ECPv6.15.20//NONSGML v1.0//EN
CALSCALE:GREGORIAN
METHOD:PUBLISH
X-ORIGINAL-URL:https://majesticmarchingeagles.org
X-WR-CALDESC:Events for majesticmarchingeagles.org
REFRESH-INTERVAL;VALUE=DURATION:PT1H
X-Robots-Tag:noindex
X-PUBLISHED-TTL:PT1H
BEGIN:VTIMEZONE
TZID:America/New_York
BEGIN:DAYLIGHT
TZOFFSETFROM:-0500
TZOFFSETTO:-0400
TZNAME:EDT
DTSTART:20240310T070000
END:DAYLIGHT
BEGIN:STANDARD
TZOFFSETFROM:-0400
TZOFFSETTO:-0500
TZNAME:EST
DTSTART:20241103T060000
END:STANDARD
BEGIN:DAYLIGHT
TZOFFSETFROM:-0500
TZOFFSETTO:-0400
TZNAME:EDT
DTSTART:20250309T070000
END:DAYLIGHT
BEGIN:STANDARD
TZOFFSETFROM:-0400
TZOFFSETTO:-0500
TZNAME:EST
DTSTART:20251102T060000
END:STANDARD
BEGIN:DAYLIGHT
TZOFFSETFROM:-0500
TZOFFSETTO:-0400
TZNAME:EDT
DTSTART:20260308T070000
END:DAYLIGHT
BEGIN:STANDARD
TZOFFSETFROM:-0400
TZOFFSETTO:-0500
TZNAME:EST
DTSTART:20261101T060000
END:STANDARD
END:VTIMEZONE
BEGIN:VEVENT
DTSTART;TZID=America/New_York:20250730T083000
DTEND;TZID=America/New_York:20250730T130000
DTSTAMP:20260425T103822
CREATED:20250719T160111Z
LAST-MODIFIED:20250719T163329Z
UID:1164-1753864200-1753880400@majesticmarchingeagles.org
SUMMARY:MME Band Camp
DESCRIPTION:8:30 am – 1:00 pm
URL:https://majesticmarchingeagles.org/event/mme-band-camp-6/
LOCATION:Majestic Marching Eagles\, 4921 Bragg Blvd\, Fayetteville\, NC\, 28303\, United States
END:VEVENT
BEGIN:VEVENT
DTSTART;TZID=America/New_York:20250729T083000
DTEND;TZID=America/New_York:20250729T130000
DTSTAMP:20260425T103822
CREATED:20250719T155925Z
LAST-MODIFIED:20250719T163235Z
UID:1159-1753777800-1753794000@majesticmarchingeagles.org
SUMMARY:MME Band Camp
DESCRIPTION:8:30 am – 1:00 pm
URL:https://majesticmarchingeagles.org/event/mme-band-camp-5/
LOCATION:Majestic Marching Eagles\, 4921 Bragg Blvd\, Fayetteville\, NC\, 28303\, United States
END:VEVENT
BEGIN:VEVENT
DTSTART;TZID=America/New_York:20250728T083000
DTEND;TZID=America/New_York:20250728T130000
DTSTAMP:20260425T103822
CREATED:20250719T155707Z
LAST-MODIFIED:20250719T163215Z
UID:1157-1753691400-1753707600@majesticmarchingeagles.org
SUMMARY:MME Band Camp
DESCRIPTION:8:30 am – 1:00 pm
URL:https://majesticmarchingeagles.org/event/mme-band-camp-4/
LOCATION:Majestic Marching Eagles\, 4921 Bragg Blvd\, Fayetteville\, NC\, 28303\, United States
END:VEVENT
BEGIN:VEVENT
DTSTART;TZID=America/New_York:20250725T083000
DTEND;TZID=America/New_York:20250725T150000
DTSTAMP:20260425T103822
CREATED:20250719T155408Z
LAST-MODIFIED:20250719T161315Z
UID:1155-1753432200-1753455600@majesticmarchingeagles.org
SUMMARY:MME Band Camp
DESCRIPTION:8:30 am – 3:00 pm
URL:https://majesticmarchingeagles.org/event/mme-band-camp-3/
LOCATION:Majestic Marching Eagles\, 4921 Bragg Blvd\, Fayetteville\, NC\, 28303\, United States
END:VEVENT
BEGIN:VEVENT
DTSTART;TZID=America/New_York:20250724T083000
DTEND;TZID=America/New_York:20250724T150000
DTSTAMP:20260425T103822
CREATED:20250719T155245Z
LAST-MODIFIED:20250719T161510Z
UID:1153-1753345800-1753369200@majesticmarchingeagles.org
SUMMARY:MME Band Camp
DESCRIPTION:8:30 am – 3:00 pm
URL:https://majesticmarchingeagles.org/event/mme-band-camp-2/
LOCATION:Majestic Marching Eagles\, 4921 Bragg Blvd\, Fayetteville\, NC\, 28303\, United States
END:VEVENT
BEGIN:VEVENT
DTSTART;TZID=America/New_York:20250723T083000
DTEND;TZID=America/New_York:20250723T150000
DTSTAMP:20260425T103822
CREATED:20250719T155155Z
LAST-MODIFIED:20250719T162227Z
UID:1151-1753259400-1753282800@majesticmarchingeagles.org
SUMMARY:MME Band Camp
DESCRIPTION:8:30 am – 3:00 pm
URL:https://majesticmarchingeagles.org/event/mme-band-camp/
LOCATION:Majestic Marching Eagles\, 4921 Bragg Blvd\, Fayetteville\, NC\, 28303\, United States
END:VEVENT
BEGIN:VEVENT
DTSTART;TZID=America/New_York:20250722T083000
DTEND;TZID=America/New_York:20250722T130000
DTSTAMP:20260425T103822
CREATED:20250719T154932Z
LAST-MODIFIED:20250719T162312Z
UID:1149-1753173000-1753189200@majesticmarchingeagles.org
SUMMARY:MME Leadership Camp
DESCRIPTION:8:30 am – 1:00 pm
URL:https://majesticmarchingeagles.org/event/mme-leadership-camp-2/
LOCATION:Majestic Marching Eagles\, 4921 Bragg Blvd\, Fayetteville\, NC\, 28303\, United States
END:VEVENT
BEGIN:VEVENT
DTSTART;TZID=America/New_York:20250721T083000
DTEND;TZID=America/New_York:20250721T130000
DTSTAMP:20260425T103822
CREATED:20250719T154638Z
LAST-MODIFIED:20250719T162349Z
UID:1147-1753086600-1753102800@majesticmarchingeagles.org
SUMMARY:MME Leadership Camp
DESCRIPTION:8:30 am – 1:00 pm
URL:https://majesticmarchingeagles.org/event/mme-leadership-camp/
LOCATION:Majestic Marching Eagles\, 4921 Bragg Blvd\, Fayetteville\, NC\, 28303\, United States
END:VEVENT
BEGIN:VEVENT
DTSTART;TZID=America/New_York:20250618T170000
DTEND;TZID=America/New_York:20250618T200000
DTSTAMP:20260425T103822
CREATED:20250617T213522Z
LAST-MODIFIED:20250617T213738Z
UID:991-1750266000-1750276800@majesticmarchingeagles.org
SUMMARY:Sonic Night 2025
DESCRIPTION:Join us for Sonic Spirit Night at the Sonic Drive in On Skibo Road. \n10% of all proceeds go to the Majestic Marching Eagles! \nSee you there!
URL:https://majesticmarchingeagles.org/event/sonic-night-2025/
LOCATION:Sonic Drive In on Skibo Road Fayetteville\, 1489 Skibo Rd\, Fayettevile\, NC\, 28303\, United States
ATTACH;FMTTYPE=image/jpeg:https://majesticmarchingeagles.org/wp-content/uploads/2025/06/sonic_logo.jpeg
END:VEVENT
BEGIN:VEVENT
DTSTART;TZID=America/New_York:20250514T160000
DTEND;TZID=America/New_York:20250514T180000
DTSTAMP:20260425T103822
CREATED:20250429T001041Z
LAST-MODIFIED:20250504T005435Z
UID:518-1747238400-1747245600@majesticmarchingeagles.org
SUMMARY:Band Clinic Day 4
DESCRIPTION:Band Clinic Day 4:
URL:https://majesticmarchingeagles.org/event/band-clinic-day-4/
LOCATION:Majestic Marching Eagles\, 4921 Bragg Blvd\, Fayetteville\, NC\, 28303\, United States
CATEGORIES:Times TBD
END:VEVENT
BEGIN:VEVENT
DTSTART;TZID=America/New_York:20250512T160000
DTEND;TZID=America/New_York:20250512T180000
DTSTAMP:20260425T103822
CREATED:20250429T000905Z
LAST-MODIFIED:20250504T005342Z
UID:515-1747065600-1747072800@majesticmarchingeagles.org
SUMMARY:Band Clinic Day 3
DESCRIPTION:Band Clinic Day Three.
URL:https://majesticmarchingeagles.org/event/band-clinic-day-3/
LOCATION:Majestic Marching Eagles\, 4921 Bragg Blvd\, Fayetteville\, NC\, 28303\, United States
CATEGORIES:Times TBD
END:VEVENT
BEGIN:VEVENT
DTSTART;TZID=America/New_York:20250507T160000
DTEND;TZID=America/New_York:20250507T180000
DTSTAMP:20260425T103822
CREATED:20250429T000818Z
LAST-MODIFIED:20250504T005249Z
UID:512-1746633600-1746640800@majesticmarchingeagles.org
SUMMARY:Band Clinic Day Two
DESCRIPTION:Band Clinic Day Two.
URL:https://majesticmarchingeagles.org/event/band-clinic-day-two/
LOCATION:Majestic Marching Eagles\, 4921 Bragg Blvd\, Fayetteville\, NC\, 28303\, United States
CATEGORIES:Times TBD
END:VEVENT
BEGIN:VEVENT
DTSTART;TZID=America/New_York:20250505T160000
DTEND;TZID=America/New_York:20250505T180000
DTSTAMP:20260425T103822
CREATED:20250429T000711Z
LAST-MODIFIED:20250504T005459Z
UID:509-1746460800-1746468000@majesticmarchingeagles.org
SUMMARY:Band Clinic Day One
DESCRIPTION:First Day of Band Clinic.
URL:https://majesticmarchingeagles.org/event/band-clinic-day-one/
LOCATION:Majestic Marching Eagles\, 4921 Bragg Blvd\, Fayetteville\, NC\, 28303\, United States
CATEGORIES:Times TBD
END:VEVENT
END:VCALENDAR