BEGIN:VCALENDAR
VERSION:2.0
PRODID:-//majesticmarchingeagles.org - ECPv6.15.20//NONSGML v1.0//EN
CALSCALE:GREGORIAN
METHOD:PUBLISH
X-ORIGINAL-URL:https://majesticmarchingeagles.org
X-WR-CALDESC:Events for majesticmarchingeagles.org
REFRESH-INTERVAL;VALUE=DURATION:PT1H
X-Robots-Tag:noindex
X-PUBLISHED-TTL:PT1H
BEGIN:VTIMEZONE
TZID:America/New_York
BEGIN:DAYLIGHT
TZOFFSETFROM:-0500
TZOFFSETTO:-0400
TZNAME:EDT
DTSTART:20240310T070000
END:DAYLIGHT
BEGIN:STANDARD
TZOFFSETFROM:-0400
TZOFFSETTO:-0500
TZNAME:EST
DTSTART:20241103T060000
END:STANDARD
BEGIN:DAYLIGHT
TZOFFSETFROM:-0500
TZOFFSETTO:-0400
TZNAME:EDT
DTSTART:20250309T070000
END:DAYLIGHT
BEGIN:STANDARD
TZOFFSETFROM:-0400
TZOFFSETTO:-0500
TZNAME:EST
DTSTART:20251102T060000
END:STANDARD
BEGIN:DAYLIGHT
TZOFFSETFROM:-0500
TZOFFSETTO:-0400
TZNAME:EDT
DTSTART:20260308T070000
END:DAYLIGHT
BEGIN:STANDARD
TZOFFSETFROM:-0400
TZOFFSETTO:-0500
TZNAME:EST
DTSTART:20261101T060000
END:STANDARD
END:VTIMEZONE
BEGIN:VEVENT
DTSTART;TZID=America/New_York:20250918T153000
DTEND;TZID=America/New_York:20250918T153000
DTSTAMP:20260425T070934
CREATED:20250901T220643Z
LAST-MODIFIED:20250901T220835Z
UID:1234-1758209400-1758209400@majesticmarchingeagles.org
SUMMARY:Practice @ BP
DESCRIPTION:
URL:https://majesticmarchingeagles.org/event/practice-bp-15/
END:VEVENT
BEGIN:VEVENT
DTSTART;TZID=America/New_York:20250917T153000
DTEND;TZID=America/New_York:20250917T153000
DTSTAMP:20260425T070934
CREATED:20250901T220643Z
LAST-MODIFIED:20250901T220835Z
UID:1233-1758123000-1758123000@majesticmarchingeagles.org
SUMMARY:Practice @ BP
DESCRIPTION:
URL:https://majesticmarchingeagles.org/event/practice-bp-14/
END:VEVENT
BEGIN:VEVENT
DTSTART;TZID=America/New_York:20250915T153000
DTEND;TZID=America/New_York:20250915T153000
DTSTAMP:20260425T070934
CREATED:20250901T220643Z
LAST-MODIFIED:20250901T220835Z
UID:1232-1757950200-1757950200@majesticmarchingeagles.org
SUMMARY:Practice @ BP
DESCRIPTION:
URL:https://majesticmarchingeagles.org/event/practice-bp-13/
END:VEVENT
BEGIN:VEVENT
DTSTART;TZID=America/New_York:20250912T000000
DTEND;TZID=America/New_York:20250912T000000
DTSTAMP:20260425T070934
CREATED:20250901T220642Z
LAST-MODIFIED:20250901T220835Z
UID:1231-1757635200-1757635200@majesticmarchingeagles.org
SUMMARY:NO PERFORMANCE
DESCRIPTION:
URL:https://majesticmarchingeagles.org/event/no-performance/
END:VEVENT
BEGIN:VEVENT
DTSTART;TZID=America/New_York:20250911T153000
DTEND;TZID=America/New_York:20250911T153000
DTSTAMP:20260425T070934
CREATED:20250901T220642Z
LAST-MODIFIED:20250901T220835Z
UID:1230-1757604600-1757604600@majesticmarchingeagles.org
SUMMARY:Practice @ BP
DESCRIPTION:
URL:https://majesticmarchingeagles.org/event/practice-bp-12/
END:VEVENT
BEGIN:VEVENT
DTSTART;TZID=America/New_York:20250910T153000
DTEND;TZID=America/New_York:20250910T153000
DTSTAMP:20260425T070934
CREATED:20250901T220633Z
LAST-MODIFIED:20250901T220822Z
UID:1229-1757518200-1757518200@majesticmarchingeagles.org
SUMMARY:Practice @ BP
DESCRIPTION:
URL:https://majesticmarchingeagles.org/event/practice-bp-11/
END:VEVENT
BEGIN:VEVENT
DTSTART;TZID=America/New_York:20250908T153000
DTEND;TZID=America/New_York:20250908T153000
DTSTAMP:20260425T070934
CREATED:20250901T220633Z
LAST-MODIFIED:20250901T220822Z
UID:1228-1757345400-1757345400@majesticmarchingeagles.org
SUMMARY:Practice @ BP
DESCRIPTION:
URL:https://majesticmarchingeagles.org/event/practice-bp-10/
END:VEVENT
BEGIN:VEVENT
DTSTART;TZID=America/New_York:20250905T170000
DTEND;TZID=America/New_York:20250905T170000
DTSTAMP:20260425T070934
CREATED:20250901T220633Z
LAST-MODIFIED:20250901T220822Z
UID:1227-1757091600-1757091600@majesticmarchingeagles.org
SUMMARY:SPIRIT NIGHT @ SONIC (Walk-A-Thon money collection)
DESCRIPTION:
URL:https://majesticmarchingeagles.org/event/spirit-night-sonic-walk-a-thon-money-collection/
END:VEVENT
BEGIN:VEVENT
DTSTART;TZID=America/New_York:20250904T153000
DTEND;TZID=America/New_York:20250904T153000
DTSTAMP:20260425T070934
CREATED:20250901T220632Z
LAST-MODIFIED:20250901T220822Z
UID:1226-1756999800-1756999800@majesticmarchingeagles.org
SUMMARY:Practice @ BP
DESCRIPTION:
URL:https://majesticmarchingeagles.org/event/practice-bp-9/
END:VEVENT
BEGIN:VEVENT
DTSTART;TZID=America/New_York:20250903T153000
DTEND;TZID=America/New_York:20250903T183000
DTSTAMP:20260425T070934
CREATED:20250901T215811Z
LAST-MODIFIED:20250901T215811Z
UID:1210-1756913400-1756924200@majesticmarchingeagles.org
SUMMARY:Practice
DESCRIPTION:
URL:https://majesticmarchingeagles.org/event/practice/
LOCATION:Majestic Marching Eagles\, 4921 Bragg Blvd\, Fayetteville\, NC\, 28303\, United States
END:VEVENT
BEGIN:VEVENT
DTSTART;TZID=America/New_York:20250903T153000
DTEND;TZID=America/New_York:20250903T153000
DTSTAMP:20260425T070934
CREATED:20250901T220632Z
LAST-MODIFIED:20250901T220822Z
UID:1225-1756913400-1756913400@majesticmarchingeagles.org
SUMMARY:Practice @ BP
DESCRIPTION:
URL:https://majesticmarchingeagles.org/event/practice-bp-8/
END:VEVENT
BEGIN:VEVENT
DTSTART;TZID=America/New_York:20250901T000000
DTEND;TZID=America/New_York:20250901T000000
DTSTAMP:20260425T070934
CREATED:20250901T220626Z
LAST-MODIFIED:20250901T220817Z
UID:1224-1756684800-1756684800@majesticmarchingeagles.org
SUMMARY:No Practice
DESCRIPTION:
URL:https://majesticmarchingeagles.org/event/no-practice/
END:VEVENT
BEGIN:VEVENT
DTSTART;TZID=America/New_York:20250829T190000
DTEND;TZID=America/New_York:20250829T190000
DTSTAMP:20260425T070934
CREATED:20250901T220626Z
LAST-MODIFIED:20250901T220817Z
UID:1223-1756494000-1756494000@majesticmarchingeagles.org
SUMMARY:Woodpeckers Game
DESCRIPTION:
URL:https://majesticmarchingeagles.org/event/woodpeckers-game/
END:VEVENT
BEGIN:VEVENT
DTSTART;TZID=America/New_York:20250828T153000
DTEND;TZID=America/New_York:20250828T153000
DTSTAMP:20260425T070934
CREATED:20250901T220626Z
LAST-MODIFIED:20250901T220817Z
UID:1222-1756395000-1756395000@majesticmarchingeagles.org
SUMMARY:Practice @ BP
DESCRIPTION:
URL:https://majesticmarchingeagles.org/event/practice-bp-7/
END:VEVENT
BEGIN:VEVENT
DTSTART;TZID=America/New_York:20250827T153000
DTEND;TZID=America/New_York:20250827T153000
DTSTAMP:20260425T070934
CREATED:20250901T220626Z
LAST-MODIFIED:20250901T220817Z
UID:1221-1756308600-1756308600@majesticmarchingeagles.org
SUMMARY:Practice @ BP
DESCRIPTION:
URL:https://majesticmarchingeagles.org/event/practice-bp-6/
END:VEVENT
BEGIN:VEVENT
DTSTART;TZID=America/New_York:20250825T153000
DTEND;TZID=America/New_York:20250825T153000
DTSTAMP:20260425T070934
CREATED:20250901T220626Z
LAST-MODIFIED:20250901T220817Z
UID:1220-1756135800-1756135800@majesticmarchingeagles.org
SUMMARY:Practice @ BP
DESCRIPTION:
URL:https://majesticmarchingeagles.org/event/practice-bp-5/
END:VEVENT
BEGIN:VEVENT
DTSTART;TZID=America/New_York:20250823T140000
DTEND;TZID=America/New_York:20250823T170000
DTSTAMP:20260425T070934
CREATED:20250821T173335Z
LAST-MODIFIED:20250821T173335Z
UID:1203-1755957600-1755968400@majesticmarchingeagles.org
SUMMARY:FANFEST
DESCRIPTION:Band Performance Saturday – August 23 2pm-5pm\nDennis A Wicker Civic Center\n1801 Nash St. Sanford\, NC 27330
URL:https://majesticmarchingeagles.org/event/fanfest/
LOCATION:Dennis A Wicker Civic Center\, 1801 Nash St.\, Sanford\, NC\, 27330\, United States
ATTACH;FMTTYPE=image/jpeg:https://majesticmarchingeagles.org/wp-content/uploads/2025/08/Screenshot-2025-08-15-at-4.07.05-PM.jpeg
END:VEVENT
BEGIN:VEVENT
DTSTART;TZID=America/New_York:20250823T000000
DTEND;TZID=America/New_York:20250823T000000
DTSTAMP:20260425T070934
CREATED:20250901T220623Z
LAST-MODIFIED:20250901T220814Z
UID:1219-1755907200-1755907200@majesticmarchingeagles.org
SUMMARY:Fan Fest @ Sanford
DESCRIPTION:
URL:https://majesticmarchingeagles.org/event/fan-fest-sanford/
END:VEVENT
BEGIN:VEVENT
DTSTART;TZID=America/New_York:20250822T153000
DTEND;TZID=America/New_York:20250822T153000
DTSTAMP:20260425T070934
CREATED:20250901T220623Z
LAST-MODIFIED:20250901T220814Z
UID:1218-1755876600-1755876600@majesticmarchingeagles.org
SUMMARY:Practice @ BP
DESCRIPTION:
URL:https://majesticmarchingeagles.org/event/practice-bp-4/
END:VEVENT
BEGIN:VEVENT
DTSTART;TZID=America/New_York:20250821T153000
DTEND;TZID=America/New_York:20250821T153000
DTSTAMP:20260425T070934
CREATED:20250901T220623Z
LAST-MODIFIED:20250901T220814Z
UID:1217-1755790200-1755790200@majesticmarchingeagles.org
SUMMARY:Practice @ BP
DESCRIPTION:
URL:https://majesticmarchingeagles.org/event/practice-bp-3/
END:VEVENT
BEGIN:VEVENT
DTSTART;TZID=America/New_York:20250820T153000
DTEND;TZID=America/New_York:20250820T153000
DTSTAMP:20260425T070934
CREATED:20250901T220623Z
LAST-MODIFIED:20250901T220814Z
UID:1216-1755703800-1755703800@majesticmarchingeagles.org
SUMMARY:Practice @ BP
DESCRIPTION:
URL:https://majesticmarchingeagles.org/event/practice-bp-2/
END:VEVENT
BEGIN:VEVENT
DTSTART;TZID=America/New_York:20250818T153000
DTEND;TZID=America/New_York:20250818T153000
DTSTAMP:20260425T070934
CREATED:20250901T220622Z
LAST-MODIFIED:20250901T220814Z
UID:1215-1755531000-1755531000@majesticmarchingeagles.org
SUMMARY:Practice @ BP
DESCRIPTION:
URL:https://majesticmarchingeagles.org/event/practice-bp/
END:VEVENT
BEGIN:VEVENT
DTSTART;TZID=America/New_York:20250801T083000
DTEND;TZID=America/New_York:20250801T130000
DTSTAMP:20260425T070934
CREATED:20250719T160312Z
LAST-MODIFIED:20250719T163349Z
UID:1168-1754037000-1754053200@majesticmarchingeagles.org
SUMMARY:MME Band Camp
DESCRIPTION:8:30 am – 1:00 pm
URL:https://majesticmarchingeagles.org/event/mme-band-camp-8/
LOCATION:Majestic Marching Eagles\, 4921 Bragg Blvd\, Fayetteville\, NC\, 28303\, United States
END:VEVENT
BEGIN:VEVENT
DTSTART;TZID=America/New_York:20250731T083000
DTEND;TZID=America/New_York:20250731T130000
DTSTAMP:20260425T070934
CREATED:20250719T160214Z
LAST-MODIFIED:20250719T161006Z
UID:1166-1753950600-1753966800@majesticmarchingeagles.org
SUMMARY:MME Band Camp
DESCRIPTION:8:30 am – 1:00 pm
URL:https://majesticmarchingeagles.org/event/mme-band-camp-7/
LOCATION:Majestic Marching Eagles\, 4921 Bragg Blvd\, Fayetteville\, NC\, 28303\, United States
END:VEVENT
BEGIN:VEVENT
DTSTART;TZID=America/New_York:20250730T083000
DTEND;TZID=America/New_York:20250730T130000
DTSTAMP:20260425T070935
CREATED:20250719T160111Z
LAST-MODIFIED:20250719T163329Z
UID:1164-1753864200-1753880400@majesticmarchingeagles.org
SUMMARY:MME Band Camp
DESCRIPTION:8:30 am – 1:00 pm
URL:https://majesticmarchingeagles.org/event/mme-band-camp-6/
LOCATION:Majestic Marching Eagles\, 4921 Bragg Blvd\, Fayetteville\, NC\, 28303\, United States
END:VEVENT
BEGIN:VEVENT
DTSTART;TZID=America/New_York:20250729T083000
DTEND;TZID=America/New_York:20250729T130000
DTSTAMP:20260425T070935
CREATED:20250719T155925Z
LAST-MODIFIED:20250719T163235Z
UID:1159-1753777800-1753794000@majesticmarchingeagles.org
SUMMARY:MME Band Camp
DESCRIPTION:8:30 am – 1:00 pm
URL:https://majesticmarchingeagles.org/event/mme-band-camp-5/
LOCATION:Majestic Marching Eagles\, 4921 Bragg Blvd\, Fayetteville\, NC\, 28303\, United States
END:VEVENT
BEGIN:VEVENT
DTSTART;TZID=America/New_York:20250728T083000
DTEND;TZID=America/New_York:20250728T130000
DTSTAMP:20260425T070935
CREATED:20250719T155707Z
LAST-MODIFIED:20250719T163215Z
UID:1157-1753691400-1753707600@majesticmarchingeagles.org
SUMMARY:MME Band Camp
DESCRIPTION:8:30 am – 1:00 pm
URL:https://majesticmarchingeagles.org/event/mme-band-camp-4/
LOCATION:Majestic Marching Eagles\, 4921 Bragg Blvd\, Fayetteville\, NC\, 28303\, United States
END:VEVENT
BEGIN:VEVENT
DTSTART;TZID=America/New_York:20250725T083000
DTEND;TZID=America/New_York:20250725T150000
DTSTAMP:20260425T070935
CREATED:20250719T155408Z
LAST-MODIFIED:20250719T161315Z
UID:1155-1753432200-1753455600@majesticmarchingeagles.org
SUMMARY:MME Band Camp
DESCRIPTION:8:30 am – 3:00 pm
URL:https://majesticmarchingeagles.org/event/mme-band-camp-3/
LOCATION:Majestic Marching Eagles\, 4921 Bragg Blvd\, Fayetteville\, NC\, 28303\, United States
END:VEVENT
BEGIN:VEVENT
DTSTART;TZID=America/New_York:20250724T083000
DTEND;TZID=America/New_York:20250724T150000
DTSTAMP:20260425T070935
CREATED:20250719T155245Z
LAST-MODIFIED:20250719T161510Z
UID:1153-1753345800-1753369200@majesticmarchingeagles.org
SUMMARY:MME Band Camp
DESCRIPTION:8:30 am – 3:00 pm
URL:https://majesticmarchingeagles.org/event/mme-band-camp-2/
LOCATION:Majestic Marching Eagles\, 4921 Bragg Blvd\, Fayetteville\, NC\, 28303\, United States
END:VEVENT
BEGIN:VEVENT
DTSTART;TZID=America/New_York:20250723T083000
DTEND;TZID=America/New_York:20250723T150000
DTSTAMP:20260425T070935
CREATED:20250719T155155Z
LAST-MODIFIED:20250719T162227Z
UID:1151-1753259400-1753282800@majesticmarchingeagles.org
SUMMARY:MME Band Camp
DESCRIPTION:8:30 am – 3:00 pm
URL:https://majesticmarchingeagles.org/event/mme-band-camp/
LOCATION:Majestic Marching Eagles\, 4921 Bragg Blvd\, Fayetteville\, NC\, 28303\, United States
END:VEVENT
END:VCALENDAR